Workbook

Sheet Introduction
B2: Kära kund
B3: Börja med att fylla i företagsnamn/organisationsnamn nedan innan du går vidare till nästa flikar.
B8: Kund / Organisation

Sheet Nyinstallation
E1: Nyinstallation
B6: *Grönmarkerade kolumner är obligatoriska, övriga är valfria
A8: Kund | B8: Produktnr (serienr) | C8: Telefonnr/IP-nr | D8: Mätarnr (sekundäradress) | E8: Anläggningsnr | F8: Adress | G8: Postnummer | H8: Stad | I8: Land | J8: Mätpunktstyp | K8: Region | L8: Latitud | M8: Longitud | N8: Tilläggsinformation | O8: Area1 | P8: Area2 | Q8: Trapphus | R8: Lägenhet | S8: Våningsplan | T8: Antal rum | U8: Storlek
A9: =IF(B9="","",Introduction!$C$8)
A10: =IF(B10="","",Introduction!$C$8)
A11: =IF(B11="","",Introduction!$C$8)
A12: =IF(B12="","",Introduction!$C$8)
A13: =IF(B13="","",Introduction!$C$8)
A14: =IF(B14="","",Introduction!$C$8)
A15: =IF(B15="","",Introduction!$C$8)
A16: =IF(B16="","",Introduction!$C$8)
A17: =IF(B17="","",Introduction!$C$8)
A18: =IF(B18="","",Introduction!$C$8)
A19: =IF(B19="","",Introduction!$C$8)
A20: =IF(B20="","",Introduction!$C$8)
... A500: =IF(B500="","",Introduction!$C$8)

Sheet Mätarbyte
E1: Mätarbyte
B6: *Grönmarkerade kolumner är obligatoriska
A8: Kund | B8: Produktnr (serienr) | C8: Telefonnr/IP-nr | D8: Anläggningsnr | E8: Nedtagen mätare (sekundäradress) | F8: Uppsatt mätare (sekundäradress)
A9: =IF(B9="","",Introduction!$C$8)
A10: =IF(B10="","",Introduction!$C$8)
A11: =IF(B11="","",Introduction!$C$8)
A12: =IF(B12="","",Introduction!$C$8)
A13: =IF(B13="","",Introduction!$C$8)
A14: =IF(B14="","",Introduction!$C$8)
A15: =IF(B15="","",Introduction!$C$8)
A16: =IF(B16="","",Introduction!$C$8)
A17: =IF(B17="","",Introduction!$C$8)
A18: =IF(B18="","",Introduction!$C$8)
A19: =IF(B19="","",Introduction!$C$8)
A20: =IF(B20="","",Introduction!$C$8)
... A500: =IF(B500="","",Introduction!$C$8)

Sheet Terminalbyte
D1: Terminalbyte
B6: *Grönmarkerade kolumner är obligatoriska, övriga om SIM-kortsbyte
A8: Kund | B8: Nedtagen produkt (serienr) | C8: Telefonnr (nedtagen) | D8: Uppsatt produkt (serienr) | E8: Telefonnr (uppsatt)
A9: =IF(B9="","",Introduction!$C$8)
A10: =IF(B10="","",Introduction!$C$8)
A11: =IF(B11="","",Introduction!$C$8)
A12: =IF(B12="","",Introduction!$C$8)
A13: =IF(B13="","",Introduction!$C$8)
A14: =IF(B14="","",Introduction!$C$8)
A15: =IF(B15="","",Introduction!$C$8)
A16: =IF(B16="","",Introduction!$C$8)
A17: =IF(B17="","",Introduction!$C$8)
A18: =IF(B18="","",Introduction!$C$8)
A19: =IF(B19="","",Introduction!$C$8)
A20: =IF(B20="","",Introduction!$C$8)
... A500: =IF(B500="","",Introduction!$C$8)

Sheet Terminal och mätarbyte
D1: Terminal och mätarbyte
B6: *Grönmarkerade kolumner är obligatoriska, övriga om SIM-kortsbyte
A8: Kund | B8: Anläggningsnr | C8: Nedtagen produkt (serienr) | D8: Telefonnr (nedtagen) | E8: Nedtagen mätare (sekundäradress) | F8: Uppsatt produkt (serienr) | G8: Telefonnr (uppsatt) | H8: Uppsatt mätare (sekundäradress)
A9: =IF(B9="","",Introduction!$C$8)
A10: =IF(B10="","",Introduction!$C$8)
A11: =IF(B11="","",Introduction!$C$8)
A12: =IF(B12="","",Introduction!$C$8)
A13: =IF(B13="","",Introduction!$C$8)
A14: =IF(B14="","",Introduction!$C$8)
A15: =IF(B15="","",Introduction!$C$8)
A16: =IF(B16="","",Introduction!$C$8)
A17: =IF(B17="","",Introduction!$C$8)
A18: =IF(B18="","",Introduction!$C$8)
A19: =IF(B19="","",Introduction!$C$8)
A20: =IF(B20="","",Introduction!$C$8)
... A500: =IF(B500="","",Introduction!$C$8)

Sheet Ta bort mätare
D1: Ta bort mätare
B6: *Grönmarkerade kolumner är obligatoriska
A8: Kund | B8: Produktnr (serienr) | C8: Anläggningsnr | D8: Mätare (sekundäradress)
A9: =IF(B9="","",Introduction!$C$8)
A10: =IF(B10="","",Introduction!$C$8)
A11: =IF(B11="","",Introduction!$C$8)
A12: =IF(B12="","",Introduction!$C$8)
A13: =IF(B13="","",Introduction!$C$8)
A14: =IF(B14="","",Introduction!$C$8)
A15: =IF(B15="","",Introduction!$C$8)
A16: =IF(B16="","",Introduction!$C$8)
A17: =IF(B17="","",Introduction!$C$8)
A18: =IF(B18="","",Introduction!$C$8)
A19: =IF(B19="","",Introduction!$C$8)
A20: =IF(B20="","",Introduction!$C$8)
... A500: =IF(B500="","",Introduction!$C$8)

Sheet SIM-kortsbyte
E1: SIM-kortsbyte
B6: *Grönmarkerade kolumner är obligatoriska, övriga är valfria
A8: Kund | B8: Produktnr (serienr) | C8: Gammalt telefonnummer | D8: Nytt telefonnummer | E8: Operatör
A9: =IF(B9="","",Introduction!$C$8)
A10: =IF(B10="","",Introduction!$C$8)
A11: =IF(B11="","",Introduction!$C$8)
A12: =IF(B12="","",Introduction!$C$8)
A13: =IF(B13="","",Introduction!$C$8)
A14: =IF(B14="","",Introduction!$C$8)
A15: =IF(B15="","",Introduction!$C$8)
A16: =IF(B16="","",Introduction!$C$8)
A17: =IF(B17="","",Introduction!$C$8)
A18: =IF(B18="","",Introduction!$C$8)
A19: =IF(B19="","",Introduction!$C$8)
A20: =IF(B20="","",Introduction!$C$8)
... A500: =IF(B500="","",Introduction!$C$8)
